Workbook
Name competition_replies: T2.Bewerberbogen!$H$14:$H$17
Name Text16: T2.Bewerberbogen!$M$34
Name Text16: 'T3.Bewerberbogen - NU'!$M$38
Name Text240: T0.Bewerberbogen!$D$7
Name Text240: T1.Bewerberbogen!#REF!
Name Text240: T12.ReferenzVorlage!#REF!
Name Text241: T0.Bewerberbogen!#REF!
Name Text241: T1.Bewerberbogen!#REF!
Name Text241: T12.ReferenzVorlage!#REF!

Sheet T0.Bewerberbogen
A1: Bewerberbogen zum Teilnahmewettbewerb
A4: Projekt/Liegenschaft: | D4: 6 Schulstandorte in Berlin - Neuordnung Büroberufe
A5: Leistung: | D5: Neuordnung Büroberufe
A6: Projektnummer: | D6: N15013-3000000-002-730-03
A7: Leistung: | D7: Leistungen gemäß Teil 3 Abschnitt 1 HOAI, Objektplanung
A8: Angaben zum Nachweis
A10: Abgabeform: | D10: Papier
A12: Der Teilnahmeantrag einschließlich Anlagen ist in einem verschlossenem Umschlag an:
D13: BIM Berliner Immobilienmanagement GmbH
D14: Warschauer Straße 41/42
D15: 10243 Berlin
A16: mit der Aufschrift:
D17: Verhandlungsverfahren mit Teilnahmewettbewerb
D18: =D4 -> 6 Schulstandorte in Berlin - Neuordnung Büroberufe
D19: =D6 -> N15013-3000000-002-730-03
D20: =A23 -> Teilnahmeschluss: | F20: =D23 -> 12.01.2017, | G20: =E23 -> 09:00:00 Uhr
A21: einzureichen.
A23: Teilnahmeschluss: | D23: 12.01.2017, | E23: 09:00:00 Uhr
A27: Hinweise an die Bewerber
A28: 1. | B28: Nur die gelb markierten Felder sind vom Bieter auszufüllen!
A29: 2. | B29: Der Bewerberbogen besteht aus den im T1.Bewerberbogen aufgeführten Unterlagen.
A30: 3. | B30: Die zur Verfügung gestellte Excel-Datei besteht aus mehreren Tabellenblättern.
A31: 4. | B31: Die Formulare sind in Papierform und im Original unterschrieben einzureichen (sämtliche Unterschriften der Bewerber und Ihrer Nachunternehmer sind im Original zu erbringen (d.h. weder Kopie/Scan, etc.)).
A32: 5. | B32: Alle Unterlagen sind in DIN A4-Format, abheftbar (seitliche Lochung) einzureichen. Von Ringbuchbindungen, Heftungen, etc. ist Abstand zu nehmen.
A33: 6. | B33: Änderungen in den vorgesehenen textlichen Inhalten sind nicht zulässig und führen zum Ausschluss des Bewerbers.
A34: 7. | B34: Bietergemeinschaft (BG):
B35: Bei einer BG sind die Formulare (Bewerberbogen, Anlage Bietergemeinschafts- erklärung, etc.) je Mitglied vollständig auszufüllen und einzureichen. Hinweis: Im Auftragsfall ist von der BG/ ARGE eine eigenständige Steuernummer zu benennen. Eine Beauftragung eines einzelnen Mitglieds der BG/ ARGE kann nicht erfolgen.
A36: 8. | B36: Nachunternehmer (NU): Beabsichtigt der Bewerber Nachunternehmer einzusetzen, um seine Eignung nachzuweisen, sind die entsprechenden Formulare durch den jeweiligen Nachunternehmer vollständig auszufüllen und durch den Bewerber einzureichen. Die Bewerber haben in diesem Fall mit der Bewerbung Verpflichtungserklärungen dieser Nachunternehmer einzureichen.
A37: 9. | B37: Sonstige Nachunternehmer (SNU): Der Einsatz sonstiger Nachunternehmer erfolgt dann, wenn Leistungen grundsätzlich in Eigenleistung erbracht werden können, dies jedoch z. B. auf Grund fehlender Kapazitäten nicht möglich ist. Für den Einsatz von sonstigen Nachunternehmern genügen die Angaben und die Kennzeichnung im T2.Bewerberbogen. Auf Verlangen ist eine Verpflichtungserklärung (gemäß Anlage) nachzureichen.
A38: 10. | B38: Referenzen: Für alle Referenzen ist zwingend die T12.ReferenzVorlage zu nutzen. Eigene Darstellungen werden nicht berücksichtigt! Die geforderten Angaben in der T12.ReferenzVorlage sind auszufüllen. Ggf. sind zusätzlich geforderte Anlagen, Erklärungen, etc. beizulegen. Die Darstellung der Referenzen soll so erfolgen, dass die Wertung nach Maßgaben der Bewertungsmatrix ermöglicht wird. Referenzen müssen vom Bieter oder dem Teil einer Bietergemeinschaft oder dem Nachunternehmer erbracht werden, der für die Erbringung der jeweiligen Leistung vorgesehen ist.
A39: 11. | B39: Referenzbestätigungsschreiben: Die Referenzbestätigungsschreiben zur Bewertung von Punkt F6 gemäß Bewertungsmatrix sind vom Referenzgeber zu unterzeichnen und mit Stempel zu versehen. Ein Stempel ist dann nicht erforderlich, wenn eine eindeuitge Zuordnung zum Referenzgeber möglich ist. Die Vorlage einer Kopie ist ausreichend. Den Unterlagen ist eine Vorlage für Referenzbestätigungsschreiben beigefügt (T14.ReferenzbestätigungsVorlage). Diese Vorlage ist vorzugsweise zu verwenden. Sofern andere Schreiben als Referenzbestätigungsschreiben eingereicht werden, hat der Bewerber in diesem Falle sicherzustellen, dass die gemäß Bewertungsmatrix zu bewertenden Punkte dort widergegeben sind.
A40: 12. | B40: Rahmenbedingungen für alle Anlagen: Anlagen (Nutzung der Vorlagen bzw. eigene Darstellungen für z.B. Beruflicher Werdegang) je Kategorie-Nummer sind fortlaufend zu nummerieren und separat beizulegen, d.h. nicht zwischen den Seiten des Bewerberbogens. Es ist eine Übersicht als Inhaltsverzeichnis beizulegen (im T4.Bewerberbogen, mit Nr. und Bezeichnung der Anlage). Eigene Darstellungen je Kategorie sind auf 1 A4-Seite, beidseitig bedruckt, minimale Schriftgröße 10, zu begrenzen - dies gilt auch für Referenzen!
A41: 13. | B41: Weitere und andere Unterlagen als die in der Bekanntmachung oder im Bewerberbogen geforderten Unterlagen werden nicht zugelassen und nicht berücksichtigt.
A42: 14. | B42: Auswahlfelder im Bewerberbogen (Ja/Nein) sind eindeutig zu befüllen. Uneindeutige Aussagen werden wie negativ-Aussagen gewertet.
A43: 15. | B43: Von der Teilnahme am Verfahren können Bewerber gemäß § 42 VgV ausgeschlossen werden, die sich falscher Erklärungen schuldig gemacht haben. Beachten Sie dies auch bei Ihren Referenzangaben.

Sheet T1.Bewerberbogen
A1: =T0.Bewerberbogen!A4 -> Projekt/Liegenschaft: | D1: =T0.Bewerberbogen!D4 -> 6 Schulstandorte in Berlin - Neuordnung Büroberufe | E1: Blaue Zeilen/Spalten sind vor Sperrung mit Passwort-Schutz auszublenden
A2: =T0.Bewerberbogen!A5 -> Leistung: | D2: =T0.Bewerberbogen!D5 -> Neuordnung Büroberufe | E2: !! Spaltenbreiten nirgends verändern - sonst Formatierungsaufwand !!
A3: =T0.Bewerberbogen!A6 -> Projektnummer: | D3: =T0.Bewerberbogen!D6 -> N15013-3000000-002-730-03
A4: =T0.Bewerberbogen!A7 -> Leistung: | D4: =T0.Bewerberbogen!D7 -> Leistungen gemäß Teil 3 Abschnitt 1 HOAI, Objektplanung | E4: Hinweise zur Erstellung Bewerberbogen/Matrix
A6: Der Bewerberbogen enthält folgende Unterlagen*, die für den
A7: Teilnahmeantrag zur Verfügung gestellt werden
A8: und mit dem Teilnahmeantrag eingereicht werden müssen:
A10: T0.Bewerberbogen (Excel) | D10: Deckblatt und Hinweise zum Teilnahmeantrag
A11: T1.Bewerberbogen (Excel) | D11: Übersicht der zur Verfügung gestellten Unterlagen
A12: T2.Bewerberbogen (Excel) | D12: Bewerberbogen für Teilnehmer bzw. Mitglieder Bietergemeinschaft
A13: T3.Bewerberbogen (Excel) | D13: Bewerberbogen für Nachunternehmer
A14: T4.Anlage (Excel)** | D14: Anlagenverzeichnis Bewerberbogen
A15: T5.Anlage (PDF-Dokument) | D15: Anlagen zum Teilnahmeantrag: • Eigenerklärung nach § 123 und 124 GWB • Eigenerklärung Tariftreue, Mindestentlohnung und SV-Beiträgen • Besondere Vertragsbedingungen gemäß Berliner Ausschreibungs- und Vergabegesetz • Eigenerklärung Berufshaftpflicht | E15: ggf. ergänzen - Abgleich mit T4.Anlage
A16: T6.Anlage (PDF-Dokument)*** | D16: Erklärung zur Ausbildungsförderung | E16: ggf. ergänzen - Abgleich mit T4.Anlage
A17: T7.Anlage (PDF-Dokument)*** | D17: Erklärung gem. § 1 Abs. 2 der Verordnung über die Förderung von Frauen | E17: ggf. ergänzen - Abgleich mit T4.Anlage
A18: T8.Anlage (PDF-Dokument)*** | D18: Auskunftsersuchen nach § 6 Abs. 1 Korruptionsregistergesetz - KRG Berlin | E18: ggf. ergänzen - Abgleich mit T4.Anlage
A19: T9.Anlage (PDF-Dokument) | D19: Verpflichtungserklärung gemäß § 5 Bundesdatenschutzgesetz | E19: ggf. ergänzen: "entfällt". Nichts löschen, sonst stimmt die Nummerierung der Anlagen nicht und es kommt zu Bewerberfragen.
A20: T10.Anlage (PDF-Dokument)*** | D20: Bietergemeinschaftserklärung
A21: T11.Anlagen (PDF-Dokument)*** | D21: Verpflichtungserklärung für Teilleistungen durch Nachunternehmer
A22: T12.ReferenzVorlage (Excel)*** | D22: Vorlage Referenz für Bewerber/ Mitglied Bietergemeinschaft/ Nachunternehmer/ Projektleiter | E22: ggf. ergänzen: "entfällt". Nichts löschen, sonst stimmt die Nummerierung der Anlagen nicht und es kommt zu Bewerberfragen.
A23: T12.ReferenzVorlage - MA (Excel)*** | D23: Vorlage Referenz für vorgesehene Projektbeteiligte (MA)
A24: T13.Wertungsmatrix (Excel) | D24: Wertungsmatrix
